BEGIN:VCALENDAR
VERSION:2.0
PRODID:-//Squarespace Inc/Squarespace 6//v6//EN
BEGIN:VEVENT
UID:59d5e5849f74567dc5a7aa9c@squarespace.com
DTSTAMP:20171005T085525Z
DTSTART:20171102T020000Z
DTEND:20171102T100000Z
SUMMARY:The Keane Open House
GEO:-31.939894;115.805694
LOCATION:4A Keane Street\, Wembley\, WA\, 6014\, Australia
END:VEVENT
END:VCALENDAR
